BEGIN:VCALENDAR
VERSION:2.0
PRODID:-//Grand Site Concors Sainte-Victoire - ECPv6.15.8//NONSGML v1.0//EN
CALSCALE:GREGORIAN
METHOD:PUBLISH
X-WR-CALNAME:Grand Site Concors Sainte-Victoire
X-ORIGINAL-URL:https://www.grandsitesaintevictoire.com
X-WR-CALDESC:Évènements pour Grand Site Concors Sainte-Victoire
REFRESH-INTERVAL;VALUE=DURATION:PT1H
X-Robots-Tag:noindex
X-PUBLISHED-TTL:PT1H
BEGIN:VTIMEZONE
TZID:Europe/Paris
BEGIN:DAYLIGHT
TZOFFSETFROM:+0100
TZOFFSETTO:+0200
TZNAME:CEST
DTSTART:20210328T010000
END:DAYLIGHT
BEGIN:STANDARD
TZOFFSETFROM:+0200
TZOFFSETTO:+0100
TZNAME:CET
DTSTART:20211031T010000
END:STANDARD
BEGIN:DAYLIGHT
TZOFFSETFROM:+0100
TZOFFSETTO:+0200
TZNAME:CEST
DTSTART:20220327T010000
END:DAYLIGHT
BEGIN:STANDARD
TZOFFSETFROM:+0200
TZOFFSETTO:+0100
TZNAME:CET
DTSTART:20221030T010000
END:STANDARD
BEGIN:DAYLIGHT
TZOFFSETFROM:+0100
TZOFFSETTO:+0200
TZNAME:CEST
DTSTART:20230326T010000
END:DAYLIGHT
BEGIN:STANDARD
TZOFFSETFROM:+0200
TZOFFSETTO:+0100
TZNAME:CET
DTSTART:20231029T010000
END:STANDARD
END:VTIMEZONE
BEGIN:VEVENT
DTSTART;TZID=Europe/Paris:20220604T090000
DTEND;TZID=Europe/Paris:20221002T180000
DTSTAMP:20260421T203208
CREATED:20220810T095537Z
LAST-MODIFIED:20220811T064415Z
UID:9383-1654333200-1664733600@www.grandsitesaintevictoire.com
SUMMARY:IMMERSION - Nature augmentée
DESCRIPTION:les Indus’3days reviennent du 18 mai au 7 juin 2026. Un événement unique en métropole Aix-Marseille-Provence depuis plus de 10 ans et qui s’étend pour cette 11e édition sur deux autres territoires : Pays de Manosque et Provence Verte. Coorganisés par la Métropole et l’Office de Tourisme de Gardanne\, cet événement met en lumière le savoir-faire industriel et artisanal local. Les participants pourront ainsi découvrir les coulisses de secteurs aussi variés que l’aéronautique\, la gastronomie\, l’environnement ou encore les métiers d’art. Cette année\, le Grand Site de France Concors Sainte-Victoire ouvre ses portes les vendredis 29 mai et 5 juin à 9h00.À découvrir pendant la visite (3h30) :– Visite de la Ferme (patrimoine bâti local restauré) et immersion sur le terrain pour découvrir l’organisation et les actions du Grand Site de France Consulter le programme Réserver votre visite d’entreprise
URL:https://www.grandsitesaintevictoire.com/agenda/immersion-nature-augmentee/
LOCATION:Maison Sainte-Victoire\, Chemin départemental 17\, Saint-Antonin sur Bayon\, 13100\, France
CATEGORIES:Exposition / Installation
ATTACH;FMTTYPE=image/jpeg:https://www.grandsitesaintevictoire.com/wp-content/uploads/2022/08/2022-06-14_expo_immersion_MSV.jpg
END:VEVENT
END:VCALENDAR