BEGIN:VCALENDAR
VERSION:2.0
PRODID:-//Grand Site Concors Sainte-Victoire - ECPv6.15.8//NONSGML v1.0//EN
CALSCALE:GREGORIAN
METHOD:PUBLISH
X-WR-CALNAME:Grand Site Concors Sainte-Victoire
X-ORIGINAL-URL:https://www.grandsitesaintevictoire.com
X-WR-CALDESC:Évènements pour Grand Site Concors Sainte-Victoire
REFRESH-INTERVAL;VALUE=DURATION:PT1H
X-Robots-Tag:noindex
X-PUBLISHED-TTL:PT1H
BEGIN:VTIMEZONE
TZID:Europe/Paris
BEGIN:DAYLIGHT
TZOFFSETFROM:+0100
TZOFFSETTO:+0200
TZNAME:CEST
DTSTART:20230326T010000
END:DAYLIGHT
BEGIN:STANDARD
TZOFFSETFROM:+0200
TZOFFSETTO:+0100
TZNAME:CET
DTSTART:20231029T010000
END:STANDARD
BEGIN:DAYLIGHT
TZOFFSETFROM:+0100
TZOFFSETTO:+0200
TZNAME:CEST
DTSTART:20240331T010000
END:DAYLIGHT
BEGIN:STANDARD
TZOFFSETFROM:+0200
TZOFFSETTO:+0100
TZNAME:CET
DTSTART:20241027T010000
END:STANDARD
BEGIN:DAYLIGHT
TZOFFSETFROM:+0100
TZOFFSETTO:+0200
TZNAME:CEST
DTSTART:20250330T010000
END:DAYLIGHT
BEGIN:STANDARD
TZOFFSETFROM:+0200
TZOFFSETTO:+0100
TZNAME:CET
DTSTART:20251026T010000
END:STANDARD
END:VTIMEZONE
BEGIN:VEVENT
DTSTART;TZID=Europe/Paris:20240117T113000
DTEND;TZID=Europe/Paris:20240512T183000
DTSTAMP:20260422T164457
CREATED:20240104T150210Z
LAST-MODIFIED:20240104T151108Z
UID:10997-1705491000-1715538600@www.grandsitesaintevictoire.com
SUMMARY:Sur les traces des dinosaures de la montagne Sainte-Victoire
DESCRIPTION:les Indus’3days reviennent du 18 mai au 7 juin 2026. Un événement unique en métropole Aix-Marseille-Provence depuis plus de 10 ans et qui s’étend pour cette 11e édition sur deux autres territoires : Pays de Manosque et Provence Verte. Coorganisés par la Métropole et l’Office de Tourisme de Gardanne\, cet événement met en lumière le savoir-faire industriel et artisanal local. Les participants pourront ainsi découvrir les coulisses de secteurs aussi variés que l’aéronautique\, la gastronomie\, l’environnement ou encore les métiers d’art. Cette année\, le Grand Site de France Concors Sainte-Victoire ouvre ses portes les vendredis 29 mai et 5 juin à 9h00.À découvrir pendant la visite (3h30) :– Visite de la Ferme (patrimoine bâti local restauré) et immersion sur le terrain pour découvrir l’organisation et les actions du Grand Site de France Consulter le programme Réserver votre visite d’entreprise
URL:https://www.grandsitesaintevictoire.com/agenda/sur-les-traces-des-dinosaures-de-la-montagne-sainte-victoire/
LOCATION:Centre culturel 21Bis Mirabeau\, 21 bis cours Mirabeau\, Aix-en-Provence\, 13100\, France
CATEGORIES:Atelier / Visite,Exposition / Installation
ATTACH;FMTTYPE=image/jpeg:https://www.grandsitesaintevictoire.com/wp-content/uploads/2024/01/Sur-les-traces-des-dinosaures_CD-13.jpg
END:VEVENT
BEGIN:VEVENT
DTSTART;TZID=Europe/Paris:20240423T140000
DTEND;TZID=Europe/Paris:20240430T160000
DTSTAMP:20260422T164457
CREATED:20240409T141539Z
LAST-MODIFIED:20240409T142009Z
UID:11205-1713880800-1714492800@www.grandsitesaintevictoire.com
SUMMARY:Ateliers pédagogiques du Muséum d’histoire naturelle
DESCRIPTION:les Indus’3days reviennent du 18 mai au 7 juin 2026. Un événement unique en métropole Aix-Marseille-Provence depuis plus de 10 ans et qui s’étend pour cette 11e édition sur deux autres territoires : Pays de Manosque et Provence Verte. Coorganisés par la Métropole et l’Office de Tourisme de Gardanne\, cet événement met en lumière le savoir-faire industriel et artisanal local. Les participants pourront ainsi découvrir les coulisses de secteurs aussi variés que l’aéronautique\, la gastronomie\, l’environnement ou encore les métiers d’art. Cette année\, le Grand Site de France Concors Sainte-Victoire ouvre ses portes les vendredis 29 mai et 5 juin à 9h00.À découvrir pendant la visite (3h30) :– Visite de la Ferme (patrimoine bâti local restauré) et immersion sur le terrain pour découvrir l’organisation et les actions du Grand Site de France Consulter le programme Réserver votre visite d’entreprise
URL:https://www.grandsitesaintevictoire.com/agenda/ateliers-pedagogiques-du-museum-dhistoire-naturelle/
LOCATION:Museum d’histoire naturelle – Salle Gassendi\, 166\, avenue Jean Monnet\, Aix-en-Provence\, 13100\, France
CATEGORIES:Atelier / Visite
ATTACH;FMTTYPE=image/jpeg:https://www.grandsitesaintevictoire.com/wp-content/uploads/2021/12/Museum-dhistoire-naturelle.jpg
ORGANIZER;CN="Mus%C3%A9um d'Histoire Naturelle d'Aix-en-Provence":MAILTO:contact_museum@mairie-aixenprovence.fr
END:VEVENT
BEGIN:VEVENT
DTSTART;TZID=Europe/Paris:20240425T183000
DTEND;TZID=Europe/Paris:20240425T200000
DTSTAMP:20260422T164457
CREATED:20240404T131957Z
LAST-MODIFIED:20240404T132531Z
UID:11183-1714069800-1714075200@www.grandsitesaintevictoire.com
SUMMARY:Évolution de l’occupation et des paysages dans la plaine de l’Arc
DESCRIPTION:les Indus’3days reviennent du 18 mai au 7 juin 2026. Un événement unique en métropole Aix-Marseille-Provence depuis plus de 10 ans et qui s’étend pour cette 11e édition sur deux autres territoires : Pays de Manosque et Provence Verte. Coorganisés par la Métropole et l’Office de Tourisme de Gardanne\, cet événement met en lumière le savoir-faire industriel et artisanal local. Les participants pourront ainsi découvrir les coulisses de secteurs aussi variés que l’aéronautique\, la gastronomie\, l’environnement ou encore les métiers d’art. Cette année\, le Grand Site de France Concors Sainte-Victoire ouvre ses portes les vendredis 29 mai et 5 juin à 9h00.À découvrir pendant la visite (3h30) :– Visite de la Ferme (patrimoine bâti local restauré) et immersion sur le terrain pour découvrir l’organisation et les actions du Grand Site de France Consulter le programme Réserver votre visite d’entreprise
URL:https://www.grandsitesaintevictoire.com/agenda/evolution-de-loccupation-et-des-paysages-dans-la-plaine-de-larc/
LOCATION:Museum d’histoire naturelle – Salle Gassendi\, 166\, avenue Jean Monnet\, Aix-en-Provence\, 13100\, France
CATEGORIES:Conférence / Débat
ATTACH;FMTTYPE=image/jpeg:https://www.grandsitesaintevictoire.com/wp-content/uploads/2024/04/conf_25_avril_2024_la_bonne.jpg
ORGANIZER;CN="Mus%C3%A9um d'Histoire Naturelle d'Aix-en-Provence":MAILTO:contact_museum@mairie-aixenprovence.fr
END:VEVENT
END:VCALENDAR