BEGIN:VCALENDAR
VERSION:2.0
PRODID:-//Grand Site Concors Sainte-Victoire - ECPv6.15.8//NONSGML v1.0//EN
CALSCALE:GREGORIAN
METHOD:PUBLISH
X-ORIGINAL-URL:https://www.grandsitesaintevictoire.com
X-WR-CALDESC:Évènements pour Grand Site Concors Sainte-Victoire
REFRESH-INTERVAL;VALUE=DURATION:PT1H
X-Robots-Tag:noindex
X-PUBLISHED-TTL:PT1H
BEGIN:VTIMEZONE
TZID:Europe/Paris
BEGIN:DAYLIGHT
TZOFFSETFROM:+0100
TZOFFSETTO:+0200
TZNAME:CEST
DTSTART:20230326T010000
END:DAYLIGHT
BEGIN:STANDARD
TZOFFSETFROM:+0200
TZOFFSETTO:+0100
TZNAME:CET
DTSTART:20231029T010000
END:STANDARD
BEGIN:DAYLIGHT
TZOFFSETFROM:+0100
TZOFFSETTO:+0200
TZNAME:CEST
DTSTART:20240331T010000
END:DAYLIGHT
BEGIN:STANDARD
TZOFFSETFROM:+0200
TZOFFSETTO:+0100
TZNAME:CET
DTSTART:20241027T010000
END:STANDARD
BEGIN:DAYLIGHT
TZOFFSETFROM:+0100
TZOFFSETTO:+0200
TZNAME:CEST
DTSTART:20250330T010000
END:DAYLIGHT
BEGIN:STANDARD
TZOFFSETFROM:+0200
TZOFFSETTO:+0100
TZNAME:CET
DTSTART:20251026T010000
END:STANDARD
END:VTIMEZONE
BEGIN:VEVENT
DTSTART;TZID=Europe/Paris:20240507T090000
DTEND;TZID=Europe/Paris:20240929T180000
DTSTAMP:20260421T162007
CREATED:20240430T075741Z
LAST-MODIFIED:20240507T130542Z
UID:11232-1715072400-1727632800@www.grandsitesaintevictoire.com
SUMMARY:Les sentiers de Sainte-Victoire
DESCRIPTION:les Indus’3days reviennent du 18 mai au 7 juin 2026. Un événement unique en métropole Aix-Marseille-Provence depuis plus de 10 ans et qui s’étend pour cette 11e édition sur deux autres territoires : Pays de Manosque et Provence Verte. Coorganisés par la Métropole et l’Office de Tourisme de Gardanne\, cet événement met en lumière le savoir-faire industriel et artisanal local. Les participants pourront ainsi découvrir les coulisses de secteurs aussi variés que l’aéronautique\, la gastronomie\, l’environnement ou encore les métiers d’art. Cette année\, le Grand Site de France Concors Sainte-Victoire ouvre ses portes les vendredis 29 mai et 5 juin à 9h00.À découvrir pendant la visite (3h30) :– Visite de la Ferme (patrimoine bâti local restauré) et immersion sur le terrain pour découvrir l’organisation et les actions du Grand Site de France Consulter le programme Réserver votre visite d’entreprise
URL:https://www.grandsitesaintevictoire.com/agenda/les-sentiers-de-sainte-victoire/
LOCATION:Maison Sainte-Victoire\, Chemin départemental 17\, Saint-Antonin sur Bayon\, 13100\, France
CATEGORIES:Exposition / Installation
ATTACH;FMTTYPE=image/jpeg:https://www.grandsitesaintevictoire.com/wp-content/uploads/2024/04/Affiche_A3-Expo_Les_sentiers_de_Sainte_Victoire.jpg
END:VEVENT
BEGIN:VEVENT
DTSTART;TZID=Europe/Paris:20240610T100000
DTEND;TZID=Europe/Paris:20240817T170000
DTSTAMP:20260421T162007
CREATED:20240627T134232Z
LAST-MODIFIED:20240627T135358Z
UID:11381-1718013600-1723914000@www.grandsitesaintevictoire.com
SUMMARY:Les épouvantails
DESCRIPTION:les Indus’3days reviennent du 18 mai au 7 juin 2026. Un événement unique en métropole Aix-Marseille-Provence depuis plus de 10 ans et qui s’étend pour cette 11e édition sur deux autres territoires : Pays de Manosque et Provence Verte. Coorganisés par la Métropole et l’Office de Tourisme de Gardanne\, cet événement met en lumière le savoir-faire industriel et artisanal local. Les participants pourront ainsi découvrir les coulisses de secteurs aussi variés que l’aéronautique\, la gastronomie\, l’environnement ou encore les métiers d’art. Cette année\, le Grand Site de France Concors Sainte-Victoire ouvre ses portes les vendredis 29 mai et 5 juin à 9h00.À découvrir pendant la visite (3h30) :– Visite de la Ferme (patrimoine bâti local restauré) et immersion sur le terrain pour découvrir l’organisation et les actions du Grand Site de France Consulter le programme Réserver votre visite d’entreprise
URL:https://www.grandsitesaintevictoire.com/agenda/les-epouvantails/
LOCATION:Château Revelette\, Chemin de Revelette\, Jouques\, 13490\, France
CATEGORIES:Exposition / Installation
ATTACH;FMTTYPE=image/jpeg:https://www.grandsitesaintevictoire.com/wp-content/uploads/2024/06/23211520.jpg
END:VEVENT
BEGIN:VEVENT
DTSTART;VALUE=DATE:20240701
DTEND;VALUE=DATE:20240901
DTSTAMP:20260421T162007
CREATED:20240712T091649Z
LAST-MODIFIED:20240712T091929Z
UID:11445-1719792000-1725148799@www.grandsitesaintevictoire.com
SUMMARY:Concours photos
DESCRIPTION:les Indus’3days reviennent du 18 mai au 7 juin 2026. Un événement unique en métropole Aix-Marseille-Provence depuis plus de 10 ans et qui s’étend pour cette 11e édition sur deux autres territoires : Pays de Manosque et Provence Verte. Coorganisés par la Métropole et l’Office de Tourisme de Gardanne\, cet événement met en lumière le savoir-faire industriel et artisanal local. Les participants pourront ainsi découvrir les coulisses de secteurs aussi variés que l’aéronautique\, la gastronomie\, l’environnement ou encore les métiers d’art. Cette année\, le Grand Site de France Concors Sainte-Victoire ouvre ses portes les vendredis 29 mai et 5 juin à 9h00.À découvrir pendant la visite (3h30) :– Visite de la Ferme (patrimoine bâti local restauré) et immersion sur le terrain pour découvrir l’organisation et les actions du Grand Site de France Consulter le programme Réserver votre visite d’entreprise
URL:https://www.grandsitesaintevictoire.com/agenda/concours-photos/
LOCATION:Le Tholonet\, Le Tholonet\, 13100\, France
CATEGORIES:Concours photo
ATTACH;FMTTYPE=image/jpeg:https://www.grandsitesaintevictoire.com/wp-content/uploads/2024/07/concours-photos-Tholonet-1.jpg
END:VEVENT
BEGIN:VEVENT
DTSTART;TZID=Europe/Paris:20240708T140000
DTEND;TZID=Europe/Paris:20240814T160000
DTSTAMP:20260421T162007
CREATED:20240701T125536Z
LAST-MODIFIED:20240701T130856Z
UID:11386-1720447200-1723651200@www.grandsitesaintevictoire.com
SUMMARY:Ateliers d’été au Muséum d’Histoire Naturelle
DESCRIPTION:les Indus’3days reviennent du 18 mai au 7 juin 2026. Un événement unique en métropole Aix-Marseille-Provence depuis plus de 10 ans et qui s’étend pour cette 11e édition sur deux autres territoires : Pays de Manosque et Provence Verte. Coorganisés par la Métropole et l’Office de Tourisme de Gardanne\, cet événement met en lumière le savoir-faire industriel et artisanal local. Les participants pourront ainsi découvrir les coulisses de secteurs aussi variés que l’aéronautique\, la gastronomie\, l’environnement ou encore les métiers d’art. Cette année\, le Grand Site de France Concors Sainte-Victoire ouvre ses portes les vendredis 29 mai et 5 juin à 9h00.À découvrir pendant la visite (3h30) :– Visite de la Ferme (patrimoine bâti local restauré) et immersion sur le terrain pour découvrir l’organisation et les actions du Grand Site de France Consulter le programme Réserver votre visite d’entreprise
URL:https://www.grandsitesaintevictoire.com/agenda/ateliers-dete-au-museum-dhistoire-naturelle-2/
LOCATION:Museum d’histoire naturelle – Salle Gassendi\, 166\, avenue Jean Monnet\, Aix-en-Provence\, 13100\, France
ATTACH;FMTTYPE=image/jpeg:https://www.grandsitesaintevictoire.com/wp-content/uploads/2021/12/Museum-dhistoire-naturelle.jpg
END:VEVENT
BEGIN:VEVENT
DTSTART;VALUE=DATE:20240724
DTEND;VALUE=DATE:20240731
DTSTAMP:20260421T162007
CREATED:20240618T083443Z
LAST-MODIFIED:20240618T092446Z
UID:11345-1721779200-1722383999@www.grandsitesaintevictoire.com
SUMMARY:Les musicales de la route Cezanne
DESCRIPTION:les Indus’3days reviennent du 18 mai au 7 juin 2026. Un événement unique en métropole Aix-Marseille-Provence depuis plus de 10 ans et qui s’étend pour cette 11e édition sur deux autres territoires : Pays de Manosque et Provence Verte. Coorganisés par la Métropole et l’Office de Tourisme de Gardanne\, cet événement met en lumière le savoir-faire industriel et artisanal local. Les participants pourront ainsi découvrir les coulisses de secteurs aussi variés que l’aéronautique\, la gastronomie\, l’environnement ou encore les métiers d’art. Cette année\, le Grand Site de France Concors Sainte-Victoire ouvre ses portes les vendredis 29 mai et 5 juin à 9h00.À découvrir pendant la visite (3h30) :– Visite de la Ferme (patrimoine bâti local restauré) et immersion sur le terrain pour découvrir l’organisation et les actions du Grand Site de France Consulter le programme Réserver votre visite d’entreprise
URL:https://www.grandsitesaintevictoire.com/agenda/les-musicales-de-la-route-cezanne/
LOCATION:Aix-en-Provence
CATEGORIES:Festival
ATTACH;FMTTYPE=image/jpeg:https://www.grandsitesaintevictoire.com/wp-content/uploads/2024/06/lesmusicales_2024.jpg
END:VEVENT
END:VCALENDAR