BEGIN:VCALENDAR
VERSION:2.0
PRODID:-//Grand Site Concors Sainte-Victoire - ECPv6.15.8//NONSGML v1.0//EN
CALSCALE:GREGORIAN
METHOD:PUBLISH
X-WR-CALNAME:Grand Site Concors Sainte-Victoire
X-ORIGINAL-URL:https://www.grandsitesaintevictoire.com
X-WR-CALDESC:Évènements pour Grand Site Concors Sainte-Victoire
REFRESH-INTERVAL;VALUE=DURATION:PT1H
X-Robots-Tag:noindex
X-PUBLISHED-TTL:PT1H
BEGIN:VTIMEZONE
TZID:Europe/Paris
BEGIN:DAYLIGHT
TZOFFSETFROM:+0100
TZOFFSETTO:+0200
TZNAME:CEST
DTSTART:20220327T010000
END:DAYLIGHT
BEGIN:STANDARD
TZOFFSETFROM:+0200
TZOFFSETTO:+0100
TZNAME:CET
DTSTART:20221030T010000
END:STANDARD
BEGIN:DAYLIGHT
TZOFFSETFROM:+0100
TZOFFSETTO:+0200
TZNAME:CEST
DTSTART:20230326T010000
END:DAYLIGHT
BEGIN:STANDARD
TZOFFSETFROM:+0200
TZOFFSETTO:+0100
TZNAME:CET
DTSTART:20231029T010000
END:STANDARD
BEGIN:DAYLIGHT
TZOFFSETFROM:+0100
TZOFFSETTO:+0200
TZNAME:CEST
DTSTART:20240331T010000
END:DAYLIGHT
BEGIN:STANDARD
TZOFFSETFROM:+0200
TZOFFSETTO:+0100
TZNAME:CET
DTSTART:20241027T010000
END:STANDARD
END:VTIMEZONE
BEGIN:VEVENT
DTSTART;TZID=Europe/Paris:20230602T090000
DTEND;TZID=Europe/Paris:20230604T190000
DTSTAMP:20260423T203808
CREATED:20230531T133638Z
LAST-MODIFIED:20230531T134538Z
UID:10574-1685696400-1685905200@www.grandsitesaintevictoire.com
SUMMARY:Salon des agricultures de Provence
DESCRIPTION:L’Association mycologique d’Aix-en-Provence (AMA) vous invite comme chaque année au Salon du champignon pour l’exposition annuelle d’espèces fraîches afin d’en découvrir leur diversité le samedi 9 et dimanche 10 novembre 2024 de 10h à 18h. N’hésitez pas à apporter vos récoltes. Cette manifestation est organisée en partenariat avec le Muséum d’Histoire Naturelle d’Aix-en-Provence.
URL:https://www.grandsitesaintevictoire.com/agenda/salon-des-agricultures-de-provence/
LOCATION:Domaine du Merle\, l’Institut Agro Montpellier\, Route d'Arles RD 113\, Salon de Provence\, 13300\, France
CATEGORIES:Evènement,Salon / Congrès
ATTACH;FMTTYPE=image/jpeg:https://www.grandsitesaintevictoire.com/wp-content/uploads/2023/05/BAT-2023_AFFICHE_SAP_A4.jpg
END:VEVENT
END:VCALENDAR